BEGIN:VCALENDAR
VERSION:2.0
PRODID:-//Toronto Hydroplane and Sailing Club - ECPv6.15.20//NONSGML v1.0//EN
CALSCALE:GREGORIAN
METHOD:PUBLISH
X-WR-CALNAME:Toronto Hydroplane and Sailing Club
X-ORIGINAL-URL:https://thsc.ca
X-WR-CALDESC:Events for Toronto Hydroplane and Sailing Club
REFRESH-INTERVAL;VALUE=DURATION:PT1H
X-Robots-Tag:noindex
X-PUBLISHED-TTL:PT1H
BEGIN:VTIMEZONE
TZID:America/Toronto
BEGIN:DAYLIGHT
TZOFFSETFROM:-0500
TZOFFSETTO:-0400
TZNAME:EDT
DTSTART:20250309T070000
END:DAYLIGHT
BEGIN:STANDARD
TZOFFSETFROM:-0400
TZOFFSETTO:-0500
TZNAME:EST
DTSTART:20251102T060000
END:STANDARD
BEGIN:DAYLIGHT
TZOFFSETFROM:-0500
TZOFFSETTO:-0400
TZNAME:EDT
DTSTART:20260308T070000
END:DAYLIGHT
BEGIN:STANDARD
TZOFFSETFROM:-0400
TZOFFSETTO:-0500
TZNAME:EST
DTSTART:20261101T060000
END:STANDARD
BEGIN:DAYLIGHT
TZOFFSETFROM:-0500
TZOFFSETTO:-0400
TZNAME:EDT
DTSTART:20270314T070000
END:DAYLIGHT
BEGIN:STANDARD
TZOFFSETFROM:-0400
TZOFFSETTO:-0500
TZNAME:EST
DTSTART:20271107T060000
END:STANDARD
END:VTIMEZONE
BEGIN:VEVENT
DTSTART;TZID=America/Toronto:20260309T200000
DTEND;TZID=America/Toronto:20260309T213000
DTSTAMP:20260421T133705
CREATED:20260303T200634Z
LAST-MODIFIED:20260303T200634Z
UID:211371-1773086400-1773091800@thsc.ca
SUMMARY:All About Current
DESCRIPTION:All About CURRENT! \nA two-part series to de-mystify moving water! \nThis new two-part webinar is all about how to be smart when you’re racing in current! The series begins this Monday\, March 9\, and will include a detailed analysis of how to take advantage of current. \nWhether you race in current all the time\, or just once in a while\, this webinar will be helpful for skippers and crews on every kind of boat. \nTopics will include: how current affects wind and waves\, identifying parts of the race course where current will be stronger or weaker\, incorporating current in your race strategy\, playing current near marks\, common current myths\, smart rules of thumb for current\, and more!\n\nThe live sessions will start at 8:00 pm (EDT) on Monday\, March 9 and 16. Each session will be about 90 minutes long with video\, diagrams\, animations\, and quizzes. Participant questions are welcome. \nJoin us at the Clubhouse for Pizza. Registration follows: \n\n	Notice: JavaScript is required for this content.
URL:https://thsc.ca/event/all-about-current/
LOCATION:THSC\, 20 Ashbridges Bay Park Rd\, Toronto\, Ontario\, M4L 3W6\, Canada
ORGANIZER;CN="Race Captain":MAILTO:race-captain@thsc.ca
END:VEVENT
BEGIN:VEVENT
DTSTART;TZID=America/Toronto:20260315T130000
DTEND;TZID=America/Toronto:20260315T160000
DTSTAMP:20260421T133705
CREATED:20251230T155350Z
LAST-MODIFIED:20260317T151443Z
UID:211111-1773579600-1773590400@thsc.ca
SUMMARY:Social Planning 1-4
DESCRIPTION:Hey there\, party people of TH&SC!  \nGet ready to put on your planning hats because we’ve got some epic Social Events coming up in 2026!  \nWe know there are some brilliant minds out there\, so come on down to your club and be a part of planning The 2026 Social Events. \nTrust us\, it’s going to be a blast! \nMarch 15\, 2026 1-4 \nJoin us for some wine-sipping\, and cheese-munching. Can’t make it but have some epic ideas or need more deets? \nShoot an email to Helen Rigler rear-commodore@thsc.ca \nDon’t forget to RSVP and get ready to have a great time in 2026!
URL:https://thsc.ca/event/social-planning-1-4/
LOCATION:THSC\, 20 Ashbridges Bay Park Rd\, Toronto\, Ontario\, M4L 3W6\, Canada
CATEGORIES:Social
END:VEVENT
BEGIN:VEVENT
DTSTART;TZID=America/Toronto:20260316T200000
DTEND;TZID=America/Toronto:20260316T213000
DTSTAMP:20260421T133705
CREATED:20260303T200722Z
LAST-MODIFIED:20260303T201442Z
UID:211374-1773691200-1773696600@thsc.ca
SUMMARY:All About Current
DESCRIPTION:All About CURRENT! \nA two-part series to de-mystify moving water! \nThis new two-part webinar is all about how to be smart when you’re racing in current! The series begins this Monday\, March 9\, and will include a detailed analysis of how to take advantage of current. \nWhether you race in current all the time\, or just once in a while\, this webinar will be helpful for skippers and crews on every kind of boat. \nTopics will include: how current affects wind and waves\, identifying parts of the race course where current will be stronger or weaker\, incorporating current in your race strategy\, playing current near marks\, common current myths\, smart rules of thumb for current\, and more!\n\nThe live sessions will start at 8:00 pm (EDT) on Monday\, March 9 and 16. Each session will be about 90 minutes long with video\, diagrams\, animations\, and quizzes. Participant questions are welcome. \nJoin us at the Clubhouse for Pizza. Registration follows: \n\n	Notice: JavaScript is required for this content.
URL:https://thsc.ca/event/all-about-current-2/
LOCATION:THSC\, 20 Ashbridges Bay Park Rd\, Toronto\, Ontario\, M4L 3W6\, Canada
CATEGORIES:Racing
ORGANIZER;CN="Race Captain":MAILTO:race-captain@thsc.ca
END:VEVENT
BEGIN:VEVENT
DTSTART;TZID=America/Toronto:20260320T190000
DTEND;TZID=America/Toronto:20260320T210000
DTSTAMP:20260421T133705
CREATED:20260317T151047Z
LAST-MODIFIED:20260317T151047Z
UID:211395-1774033200-1774040400@thsc.ca
SUMMARY:Darts
DESCRIPTION:TH&SC Darts Night continues!\nCome one\, call all—good throws\, good laughs\, a pool table\, and a quick boat check included.\nNo partner? No problem—we’ll make sure you have one!\nAll skill levels welcome (even the “just here for fun” crowd).\nPlease bring your own Beverages
URL:https://thsc.ca/event/darts/
LOCATION:THSC\, 20 Ashbridges Bay Park Rd\, Toronto\, Ontario\, M4L 3W6\, Canada
CATEGORIES:Social
END:VEVENT
BEGIN:VEVENT
DTSTART;TZID=America/Toronto:20260321T190000
DTEND;TZID=America/Toronto:20260321T220000
DTSTAMP:20260421T133705
CREATED:20251230T164014Z
LAST-MODIFIED:20251230T171658Z
UID:211125-1774119600-1774130400@thsc.ca
SUMMARY:Spring Social
DESCRIPTION:Ahoy\, Clubmates! \nPrepare to set sail for a social gathering that’s sure to be smoother than a East-wind gale! \nJoin us for the TH&SC Spring Social on March 21st from 7:00 PM to 10:00 PM at the Clubhouse. \nThis is the perfect opportunity to: \n\nCatch up with fellow sailors: Share tales of winter woes (and triumphs!)\, swap tips on spring boat prep\, and plot your course for the upcoming season.\nTap into the wisdom of the seas: Experienced sailors will be on hand to offer advice on everything from launching your vessel to navigating tricky tides. Consider it a free consultation with the best maritime minds in the bay!\nSign up for adventure! We’ll be recruiting volunteers for Officer On Duty (OOD) shifts\, exciting club projects\, and engaging committees.\n\nWhat to expect: \n\nA feast for the senses: Enjoy a delightful spread of snacks and sweets that would make a pirate swoon.\nThe perfect thirst quencher: Coffee and tea will be flowing freely\, but we encourage you to bring your favorite beverages to truly raise the anchor on the festivities.\nGood company and lively conversation: Expect lively banter\, shared laughter\, and the camaraderie that makes our club so special.\n\nDon’t miss this chance to hoist the sails and set a course for a fantastic season!
URL:https://thsc.ca/event/spring-social/
LOCATION:THSC\, 20 Ashbridges Bay Park Rd\, Toronto\, Ontario\, M4L 3W6\, Canada
CATEGORIES:Social
END:VEVENT
BEGIN:VEVENT
DTSTART;TZID=America/Toronto:20260327T190000
DTEND;TZID=America/Toronto:20260327T210000
DTSTAMP:20260421T133705
CREATED:20260317T151149Z
LAST-MODIFIED:20260317T151219Z
UID:211397-1774638000-1774645200@thsc.ca
SUMMARY:Darts
DESCRIPTION:TH&SC Darts Night continues!\nCome one\, call all—good throws\, good laughs\, a pool table\, and a quick boat check included.\nNo partner? No problem—we’ll make sure you have one!\nAll skill levels welcome (even the “just here for fun” crowd).\nPlease bring your own Beverages
URL:https://thsc.ca/event/darts-2/
LOCATION:THSC\, 20 Ashbridges Bay Park Rd\, Toronto\, Ontario\, M4L 3W6\, Canada
CATEGORIES:Social
END:VEVENT
END:VCALENDAR