BEGIN:VCALENDAR
VERSION:2.0
PRODID:-//Toronto Hydroplane and Sailing Club - ECPv6.15.20//NONSGML v1.0//EN
CALSCALE:GREGORIAN
METHOD:PUBLISH
X-WR-CALNAME:Toronto Hydroplane and Sailing Club
X-ORIGINAL-URL:https://thsc.ca
X-WR-CALDESC:Events for Toronto Hydroplane and Sailing Club
REFRESH-INTERVAL;VALUE=DURATION:PT1H
X-Robots-Tag:noindex
X-PUBLISHED-TTL:PT1H
BEGIN:VTIMEZONE
TZID:America/Toronto
BEGIN:DAYLIGHT
TZOFFSETFROM:-0500
TZOFFSETTO:-0400
TZNAME:EDT
DTSTART:20250309T070000
END:DAYLIGHT
BEGIN:STANDARD
TZOFFSETFROM:-0400
TZOFFSETTO:-0500
TZNAME:EST
DTSTART:20251102T060000
END:STANDARD
BEGIN:DAYLIGHT
TZOFFSETFROM:-0500
TZOFFSETTO:-0400
TZNAME:EDT
DTSTART:20260308T070000
END:DAYLIGHT
BEGIN:STANDARD
TZOFFSETFROM:-0400
TZOFFSETTO:-0500
TZNAME:EST
DTSTART:20261101T060000
END:STANDARD
BEGIN:DAYLIGHT
TZOFFSETFROM:-0500
TZOFFSETTO:-0400
TZNAME:EDT
DTSTART:20270314T070000
END:DAYLIGHT
BEGIN:STANDARD
TZOFFSETFROM:-0400
TZOFFSETTO:-0500
TZNAME:EST
DTSTART:20271107T060000
END:STANDARD
END:VTIMEZONE
BEGIN:VEVENT
DTSTART;TZID=America/Toronto:20260228T093000
DTEND;TZID=America/Toronto:20260228T120000
DTSTAMP:20260421T165412
CREATED:20260106T155246Z
LAST-MODIFIED:20260217T160608Z
UID:211165-1772271000-1772280000@thsc.ca
SUMMARY:TORC
DESCRIPTION:Toronto Outboard Racing Club Meeting
URL:https://thsc.ca/event/torc-2/
LOCATION:Ontario
END:VEVENT
BEGIN:VEVENT
DTSTART;TZID=America/Toronto:20260227T190000
DTEND;TZID=America/Toronto:20260227T210000
DTSTAMP:20260421T165412
CREATED:20260112T164241Z
LAST-MODIFIED:20260112T173708Z
UID:211204-1772218800-1772226000@thsc.ca
SUMMARY:Darts\, Bullseyes & Boat Checks
DESCRIPTION:TH&SC Darts Night continues!\nCome one\, call all—good throws\, good laughs\, a pool table\, and a quick boat check included.\nNo partner? No problem—we’ll make sure you have one!\nAll skill levels welcome (even the “just here for fun” crowd).\nPlease bring your own Beverages
URL:https://thsc.ca/event/darts-bullseyes-boat-checks-8/
LOCATION:THSC\, 20 Ashbridges Bay Park Rd\, Toronto\, Ontario\, M4L 3W6\, Canada
CATEGORIES:Social
END:VEVENT
BEGIN:VEVENT
DTSTART;TZID=America/Toronto:20260223T200000
DTEND;TZID=America/Toronto:20260223T213000
DTSTAMP:20260421T165412
CREATED:20251230T175430Z
LAST-MODIFIED:20251230T183653Z
UID:211137-1771876800-1771882200@thsc.ca
SUMMARY:Dave Dellenbaugh's Boatspeed Playbook
DESCRIPTION:Dave Dellenbaugh’s Boatspeed Playbook\nA new four-part\, go-fast webinar series!\nHi! If you’re like most racing sailors\, you’d love to get your boat going a little faster (and higher!) this year. Well\, here’s a great first step: Start 2026 with a webinar series designed to give you a systematic approach to the most important boatspeed ingredients. \nDuring this webinar we’ll create a ‘playbook’ containing crucial boatspeed guidelines and sail trim rules of thumb. Each participant will end up with go-fast reference materials that are easy to apply on almost every kind of boat\, for both skippers and crew. \nTopics we’ll cover include: how to evaluate speed; finding (and staying in) the ‘groove’; optimizing windward helm; understanding rake and pre-bend; how to point higher; team boatspeed communication; mainsail trim upwind and downwind; jib and genoa rules of thumb; keys to fast spinnaker trim; when (and how!) to ‘change gears’; and much more! \nThis series begins on Monday\, February 2\, and will focus on how to sail your boat FAST in 2026! The live sessions start at 8:00 pm (EST) on the four Mondays in February. Each session will be about 90 minutes long with video\, diagrams\, animations\, and quizzes. Participant questions are welcome. \nThe $65 price for the series includes: \n1) four live webinars with Pizza; \n2) pre-read materials sent by email before each session; \n3) unlimited access to the replays of all sessions (in case you miss any or would like to review them); and \n4) a link to a Google doc with all the webinar Q&As in writing. All will be invaluable for improving your speed – and race results! – this year. \n\n	Notice: JavaScript is required for this content.
URL:https://thsc.ca/event/dave-dellenbaughs-boatspeed-playbook-4/
LOCATION:THSC\, 20 Ashbridges Bay Park Rd\, Toronto\, Ontario\, M4L 3W6\, Canada
CATEGORIES:Racing,Training and Education
ORGANIZER;CN="Race Captain":MAILTO:race-captain@thsc.ca
END:VEVENT
BEGIN:VEVENT
DTSTART;TZID=America/Toronto:20260220T190000
DTEND;TZID=America/Toronto:20260220T210000
DTSTAMP:20260421T165412
CREATED:20260112T164128Z
LAST-MODIFIED:20260112T164128Z
UID:211202-1771614000-1771621200@thsc.ca
SUMMARY:Darts\, Bullseyes & Boat Checks
DESCRIPTION:TH&SC Darts Night continues!\nCome one\, call all—good throws\, good laughs\, a pool table\, and a quick boat check included.\nNo partner? No problem—we’ll make sure you have one!\nAll skill levels welcome (even the “just here for fun” crowd).\nPlease bring your own Beverages
URL:https://thsc.ca/event/darts-bullseyes-boat-checks-7/
LOCATION:THSC\, 20 Ashbridges Bay Park Rd\, Toronto\, Ontario\, M4L 3W6\, Canada
CATEGORIES:Social
END:VEVENT
BEGIN:VEVENT
DTSTART;TZID=America/Toronto:20260216T200000
DTEND;TZID=America/Toronto:20260216T213000
DTSTAMP:20260421T165412
CREATED:20251230T175300Z
LAST-MODIFIED:20251230T183017Z
UID:211135-1771272000-1771277400@thsc.ca
SUMMARY:Dave Dellenbaugh's Boatspeed Playbook
DESCRIPTION:Dave Dellenbaugh’s Boatspeed Playbook\nA new four-part\, go-fast webinar series!\nHi! If you’re like most racing sailors\, you’d love to get your boat going a little faster (and higher!) this year. Well\, here’s a great first step: Start 2026 with a webinar series designed to give you a systematic approach to the most important boatspeed ingredients. \nDuring this webinar we’ll create a ‘playbook’ containing crucial boatspeed guidelines and sail trim rules of thumb. Each participant will end up with go-fast reference materials that are easy to apply on almost every kind of boat\, for both skippers and crew. \nTopics we’ll cover include: how to evaluate speed; finding (and staying in) the ‘groove’; optimizing windward helm; understanding rake and pre-bend; how to point higher; team boatspeed communication; mainsail trim upwind and downwind; jib and genoa rules of thumb; keys to fast spinnaker trim; when (and how!) to ‘change gears’; and much more! \nThis series begins on Monday\, February 2\, and will focus on how to sail your boat FAST in 2026! The live sessions start at 8:00 pm (EST) on the four Mondays in February. Each session will be about 90 minutes long with video\, diagrams\, animations\, and quizzes. Participant questions are welcome. \nThe $65 price for the series includes: \n1) four live webinars with Pizza; \n2) pre-read materials sent by email before each session; \n3) unlimited access to the replays of all sessions (in case you miss any or would like to review them); and \n4) a link to a Google doc with all the webinar Q&As in writing. All will be invaluable for improving your speed – and race results! – this year. \n\n	Notice: JavaScript is required for this content.
URL:https://thsc.ca/event/dave-dellenbaughs-boatspeed-playbook-3/
LOCATION:THSC\, 20 Ashbridges Bay Park Rd\, Toronto\, Ontario\, M4L 3W6\, Canada
CATEGORIES:Racing
ORGANIZER;CN="Race Captain":MAILTO:race-captain@thsc.ca
END:VEVENT
BEGIN:VEVENT
DTSTART;TZID=America/Toronto:20260213T190000
DTEND;TZID=America/Toronto:20260213T210000
DTSTAMP:20260421T165412
CREATED:20260112T163913Z
LAST-MODIFIED:20260112T163913Z
UID:211200-1771009200-1771016400@thsc.ca
SUMMARY:Darts\, Bullseyes & Boat Checks
DESCRIPTION:TH&SC Darts Night continues!\nCome one\, call all—good throws\, good laughs\, a pool table\, and a quick boat check included.\nNo partner? No problem—we’ll make sure you have one!\nAll skill levels welcome (even the “just here for fun” crowd).\nPlease bring your own Beverages
URL:https://thsc.ca/event/darts-bullseyes-boat-checks-6/
LOCATION:THSC\, 20 Ashbridges Bay Park Rd\, Toronto\, Ontario\, M4L 3W6\, Canada
CATEGORIES:Social
END:VEVENT
BEGIN:VEVENT
DTSTART;TZID=America/Toronto:20260209T200000
DTEND;TZID=America/Toronto:20260209T213000
DTSTAMP:20260421T165412
CREATED:20251230T175151Z
LAST-MODIFIED:20251230T182946Z
UID:211133-1770667200-1770672600@thsc.ca
SUMMARY:Dave Dellenbaugh's Boatspeed Playbook
DESCRIPTION:Dave Dellenbaugh’s Boatspeed Playbook\nA new four-part\, go-fast webinar series!\nHi! If you’re like most racing sailors\, you’d love to get your boat going a little faster (and higher!) this year. Well\, here’s a great first step: Start 2026 with a webinar series designed to give you a systematic approach to the most important boatspeed ingredients. \nDuring this webinar we’ll create a ‘playbook’ containing crucial boatspeed guidelines and sail trim rules of thumb. Each participant will end up with go-fast reference materials that are easy to apply on almost every kind of boat\, for both skippers and crew. \nTopics we’ll cover include: how to evaluate speed; finding (and staying in) the ‘groove’; optimizing windward helm; understanding rake and pre-bend; how to point higher; team boatspeed communication; mainsail trim upwind and downwind; jib and genoa rules of thumb; keys to fast spinnaker trim; when (and how!) to ‘change gears’; and much more! \nThis series begins on Monday\, February 2\, and will focus on how to sail your boat FAST in 2026! The live sessions start at 8:00 pm (EST) on the four Mondays in February. Each session will be about 90 minutes long with video\, diagrams\, animations\, and quizzes. Participant questions are welcome. \nThe $65 price for the series includes: \n1) four live webinars with Pizza; \n2) pre-read materials sent by email before each session; \n3) unlimited access to the replays of all sessions (in case you miss any or would like to review them); and \n4) a link to a Google doc with all the webinar Q&As in writing. All will be invaluable for improving your speed – and race results! – this year. \n\n	Notice: JavaScript is required for this content.
URL:https://thsc.ca/event/dave-dellenbaughs-boatspeed-playbook-2/
LOCATION:THSC\, 20 Ashbridges Bay Park Rd\, Toronto\, Ontario\, M4L 3W6\, Canada
CATEGORIES:Racing,Training and Education
ORGANIZER;CN="Race Captain":MAILTO:race-captain@thsc.ca
END:VEVENT
BEGIN:VEVENT
DTSTART;TZID=America/Toronto:20260207T120000
DTEND;TZID=America/Toronto:20260207T233000
DTSTAMP:20260421T165412
CREATED:20260106T155711Z
LAST-MODIFIED:20260106T155807Z
UID:211167-1770465600-1770507000@thsc.ca
SUMMARY:Private Party
DESCRIPTION:Clubhouse is booked for a private party.
URL:https://thsc.ca/event/private-party/
LOCATION:THSC\, 20 Ashbridges Bay Park Rd\, Toronto\, Ontario\, M4L 3W6\, Canada
END:VEVENT
BEGIN:VEVENT
DTSTART;TZID=America/Toronto:20260206T190000
DTEND;TZID=America/Toronto:20260206T210000
DTSTAMP:20260421T165412
CREATED:20260112T163727Z
LAST-MODIFIED:20260112T163746Z
UID:211198-1770404400-1770411600@thsc.ca
SUMMARY:Darts\, Bullseyes & Boat Checks
DESCRIPTION:TH&SC Darts Night continues!\nCome one\, call all—good throws\, good laughs\, a pool table\, and a quick boat check included.\nNo partner? No problem—we’ll make sure you have one!\nAll skill levels welcome (even the “just here for fun” crowd).\nPlease bring your own Beverages
URL:https://thsc.ca/event/darts-bullseyes-boat-checks-5/
LOCATION:THSC\, 20 Ashbridges Bay Park Rd\, Toronto\, Ontario\, M4L 3W6\, Canada
CATEGORIES:Social
END:VEVENT
BEGIN:VEVENT
DTSTART;TZID=America/Toronto:20260202T200000
DTEND;TZID=America/Toronto:20260202T213000
DTSTAMP:20260421T165412
CREATED:20251230T174758Z
LAST-MODIFIED:20251230T182902Z
UID:211129-1770062400-1770067800@thsc.ca
SUMMARY:Dave Dellenbaugh's Boatspeed Playbook
DESCRIPTION:Dave Dellenbaugh’s Boatspeed Playbook\nA new four-part\, go-fast webinar series!\nHi! If you’re like most racing sailors\, you’d love to get your boat going a little faster (and higher!) this year. Well\, here’s a great first step: Start 2026 with a webinar series designed to give you a systematic approach to the most important boatspeed ingredients. \nDuring this webinar we’ll create a ‘playbook’ containing crucial boatspeed guidelines and sail trim rules of thumb. Each participant will end up with go-fast reference materials that are easy to apply on almost every kind of boat\, for both skippers and crew. \nTopics we’ll cover include: how to evaluate speed; finding (and staying in) the ‘groove’; optimizing windward helm; understanding rake and pre-bend; how to point higher; team boatspeed communication; mainsail trim upwind and downwind; jib and genoa rules of thumb; keys to fast spinnaker trim; when (and how!) to ‘change gears’; and much more! \nThis series begins on Monday\, February 2\, and will focus on how to sail your boat FAST in 2026! The live sessions start at 8:00 pm (EST) on the four Mondays in February. Each session will be about 90 minutes long with video\, diagrams\, animations\, and quizzes. Participant questions are welcome. \nThe $65 price for the series includes: \n1) four live webinars with Pizza; \n2) pre-read materials sent by email before each session; \n3) unlimited access to the replays of all sessions (in case you miss any or would like to review them); and \n4) a link to a Google doc with all the webinar Q&As in writing. All will be invaluable for improving your speed – and race results! – this year. \n\n	Notice: JavaScript is required for this content.
URL:https://thsc.ca/event/dave-dellenbaughs-boatspeed-playbook/
LOCATION:THSC\, 20 Ashbridges Bay Park Rd\, Toronto\, Ontario\, M4L 3W6\, Canada
CATEGORIES:Racing
ORGANIZER;CN="Race Captain":MAILTO:race-captain@thsc.ca
END:VEVENT
BEGIN:VEVENT
DTSTART;TZID=America/Toronto:20260130T190000
DTEND;TZID=America/Toronto:20260130T210000
DTSTAMP:20260421T165412
CREATED:20260112T163552Z
LAST-MODIFIED:20260112T163552Z
UID:211196-1769799600-1769806800@thsc.ca
SUMMARY:Darts\, Bullseyes & Boat Checks
DESCRIPTION:TH&SC Darts Night continues!\nCome one\, call all—good throws\, good laughs\, a pool table\, and a quick boat check included.\nNo partner? No problem—we’ll make sure you have one!\nAll skill levels welcome (even the “just here for fun” crowd).\nPlease bring your own Beverages
URL:https://thsc.ca/event/darts-bullseyes-boat-checks-4/
LOCATION:THSC\, 20 Ashbridges Bay Park Rd\, Toronto\, Ontario\, M4L 3W6\, Canada
CATEGORIES:Social
END:VEVENT
BEGIN:VEVENT
DTSTART;TZID=America/Toronto:20260124T190000
DTEND;TZID=America/Toronto:20260124T233000
DTSTAMP:20260421T165412
CREATED:20251230T160437Z
LAST-MODIFIED:20260120T145542Z
UID:211113-1769281200-1769297400@thsc.ca
SUMMARY:Robbie Burns Night
DESCRIPTION:Ahoy\, me hearties! \nDon your kilts and bonnets\, ’tis time to celebrate the Bard! \nJoin us for a Robbie Burns Day celebration at the Toronto Hydroplane & Sailing Club on Saturday\, January 24th at 7:00 pm. \nWe’ll be raising a glass (or several) to Scotland’s favorite son with: \n\nA traditional Address to the Haggis: Prepare to be moved by the poetic ode to this Scottish delicacy!\nPiping Hot Haggis\, Neeps & Tatties: A taste of Scotland to warm yer belly.\nA Wee Dram o’ Whisky: This event is BYOB\, so bring along that special bottle of Scotch you’ve been saving and share it with your fellow members! Be ready to share a tale or two about your chosen distillery and compare tasting notes.\nMore Scottish Fare: Plenty of other delicious treats to keep you fueled for an evening of revelry.\nLive Piping: Get ready to dance a jig to the rousing sounds of the bagpipes!\n\nAll TH&SC members\, crew\, and guests are welcome! \nCost: $10 per person (covers food and entertainment) \nRSVP: Please RSVP by January 20th to Rear-Commodore@thsc.ca so we can get a headcount for the haggis! \nLet’s make this a Robbie Burns Day to remember! \nSlàinte mhath! \n\n	Notice: JavaScript is required for this content.
URL:https://thsc.ca/event/robbie-burns-night/
LOCATION:Ontario
CATEGORIES:Social
END:VEVENT
BEGIN:VEVENT
DTSTART;TZID=America/Toronto:20260123T190000
DTEND;TZID=America/Toronto:20260123T210000
DTSTAMP:20260421T165412
CREATED:20260112T163040Z
LAST-MODIFIED:20260112T163040Z
UID:211192-1769194800-1769202000@thsc.ca
SUMMARY:Darts\, Bullseyes & Boat Checks
DESCRIPTION:TH&SC Darts Night continues!\nCome one\, call all—good throws\, good laughs\, a pool table\, and a quick boat check included.\nNo partner? No problem—we’ll make sure you have one!\nAll skill levels welcome (even the “just here for fun” crowd).\nPlease bring your own Beverages
URL:https://thsc.ca/event/darts-bullseyes-boat-checks-2/
LOCATION:THSC\, 20 Ashbridges Bay Park Rd\, Toronto\, Ontario\, M4L 3W6\, Canada
CATEGORIES:Social
END:VEVENT
BEGIN:VEVENT
DTSTART;TZID=America/Toronto:20260117T120000
DTEND;TZID=America/Toronto:20260125T170000
DTSTAMP:20260421T165412
CREATED:20260112T173921Z
LAST-MODIFIED:20260112T173959Z
UID:211206-1768651200-1769360400@thsc.ca
SUMMARY:Toronto International Boat Show
DESCRIPTION:
URL:https://thsc.ca/event/toronto-international-boat-show/
LOCATION:Ontario
END:VEVENT
END:VCALENDAR