BEGIN:VCALENDAR
VERSION:2.0
PRODID:-//Toronto Hydroplane and Sailing Club - ECPv6.15.20//NONSGML v1.0//EN
CALSCALE:GREGORIAN
METHOD:PUBLISH
X-ORIGINAL-URL:https://thsc.ca
X-WR-CALDESC:Events for Toronto Hydroplane and Sailing Club
REFRESH-INTERVAL;VALUE=DURATION:PT1H
X-Robots-Tag:noindex
X-PUBLISHED-TTL:PT1H
BEGIN:VTIMEZONE
TZID:America/Toronto
BEGIN:DAYLIGHT
TZOFFSETFROM:-0500
TZOFFSETTO:-0400
TZNAME:EDT
DTSTART:20250309T070000
END:DAYLIGHT
BEGIN:STANDARD
TZOFFSETFROM:-0400
TZOFFSETTO:-0500
TZNAME:EST
DTSTART:20251102T060000
END:STANDARD
BEGIN:DAYLIGHT
TZOFFSETFROM:-0500
TZOFFSETTO:-0400
TZNAME:EDT
DTSTART:20260308T070000
END:DAYLIGHT
BEGIN:STANDARD
TZOFFSETFROM:-0400
TZOFFSETTO:-0500
TZNAME:EST
DTSTART:20261101T060000
END:STANDARD
BEGIN:DAYLIGHT
TZOFFSETFROM:-0500
TZOFFSETTO:-0400
TZNAME:EDT
DTSTART:20270314T070000
END:DAYLIGHT
BEGIN:STANDARD
TZOFFSETFROM:-0400
TZOFFSETTO:-0500
TZNAME:EST
DTSTART:20271107T060000
END:STANDARD
END:VTIMEZONE
BEGIN:VEVENT
DTSTART;TZID=America/Toronto:20260516T110000
DTEND;TZID=America/Toronto:20260516T160000
DTSTAMP:20260421T233718
CREATED:20260421T181008Z
LAST-MODIFIED:20260421T181008Z
UID:211543-1778929200-1778947200@thsc.ca
SUMMARY:Ice Breaker Race
DESCRIPTION:
URL:https://thsc.ca/event/ice-breaker-race/
LOCATION:THSC\, 20 Ashbridges Bay Park Rd\, Toronto\, Ontario\, M4L 3W6\, Canada
CATEGORIES:Racing
ORGANIZER;CN="Race Captain":MAILTO:race-captain@thsc.ca
END:VEVENT
END:VCALENDAR